BEGIN:VCALENDAR
VERSION:2.0
PRODID:-//Talks.cam//talks.cam.ac.uk//
X-WR-CALNAME:Talks.cam
BEGIN:VEVENT
SUMMARY:CMS electricity usage: 10228.5 kWh on 24/10/12 - Previous day: 986
 2.5 kWh
DTSTART:20121026T000000Z
DTEND:20121026T010000Z
UID:TALK41299@talks.cam.ac.uk
CONTACT:Dankrad Feist
DESCRIPTION:
LOCATION:Average on weekdays: 8952.34534271 kWh
END:VEVENT
END:VCALENDAR
