BEGIN:VCALENDAR
VERSION:2.0
PRODID:-//Talks.cam//talks.cam.ac.uk//
X-WR-CALNAME:Talks.cam
BEGIN:VEVENT
SUMMARY:The AMBRE Project: Galactic Archaeology with the ESO archive - Cla
 re Worley (Nice -&gt\; IoA)
DTSTART:20121205T134500Z
DTEND:20121205T141500Z
UID:TALK41423@talks.cam.ac.uk
CONTACT:29451
DESCRIPTION:Abstract not available
LOCATION:Sackler Lecture Theatre\, IoA
END:VEVENT
END:VCALENDAR
