BEGIN:VCALENDAR
VERSION:2.0
PRODID:-//Talks.cam//talks.cam.ac.uk//
X-WR-CALNAME:Talks.cam
BEGIN:VEVENT
SUMMARY:Computer mediated living in the Roger Needham building - Tim Regan
  (Microsoft Research)
DTSTART:20121108T111500Z
DTEND:20121108T115500Z
UID:TALK41432@talks.cam.ac.uk
CONTACT:Vaiva Imbrasaite
DESCRIPTION:Richard Harper and Tim Regan will chat informally for 20 minut
 es about the work of Microsoft Research's Socio-Digital Systems group and 
 then open it up to general discussion about shared and differing goals and
  experiences with the Computer Science department's Rainbow Group.
LOCATION:Rainbow Room (SS03)\, Computer Laboratory
END:VEVENT
END:VCALENDAR
