BEGIN:VCALENDAR
VERSION:2.0
PRODID:-//Talks.cam//talks.cam.ac.uk//
X-WR-CALNAME:Talks.cam
BEGIN:VEVENT
SUMMARY:The Many Faces of Context - Philippe de Montebello (Director Emeri
 tus\, The Metropolitan Museum of Art\, Fiske Kimball Professor\, Institute
  of Fine Arts\, New York University)
DTSTART:20121115T170000Z
DTEND:20121115T183000Z
UID:TALK41521@talks.cam.ac.uk
CONTACT:Ruth Rushworth
DESCRIPTION:Philippe de Montebello (Director Emeritus\, The Metropolitan M
 useum of Art\, Fiske Kimball Professor\, Institute of Fine Arts\, New York
  University) will give a series of three public lectures on The Multiple L
 ives of the Work of Art  and participate in a concluding symposium. \n\nTh
 e first lecture\, The Many Faces of Context\, focuses on how choices of me
 dia and changes in contexts imply concomitant shifts in meaning and viewer
  response.\n\nhttp://www.crassh.cam.ac.uk/events/2178/
LOCATION:Mill Lane Lecture Room 9
END:VEVENT
END:VCALENDAR
