BEGIN:VCALENDAR
VERSION:2.0
PRODID:-//Talks.cam//talks.cam.ac.uk//
X-WR-CALNAME:Talks.cam
BEGIN:VEVENT
SUMMARY:Next Wave of Telco´s Innovation - Pablo Rodriguez\, Telefonica
DTSTART:20121116T130000Z
DTEND:20121116T140000Z
UID:TALK41596@talks.cam.ac.uk
CONTACT:Microsoft Research Cambridge Talks Admins
DESCRIPTION:Exponential data growth and slowly growing revenues are carrie
 r´s dilemmas today. To meet such a challenge\, it is the time for Telcos 
 to focus on innovation. While the early stage of Telco innovations focused
  around their core technologies and business around voice and data\, the n
 ext decade looks very different. \n \nIn this talk I will discuss some of 
 the areas of research and innovation that are driving this change. A few e
 xample of those are network economics\, privacy\, trust and reputation\, o
 r disrupting the mobile device market. However\, the real breakthrough inn
 ovations may come from more adjacent and far fetched multidisciplinary are
 as including psychology\, vanguard cooking\, or the science of soccer play
 ing.
LOCATION:Large lecture theatre\, Microsoft Research Ltd\, 7 J J Thomson Av
 enue (Off Madingley Road)\, Cambridge
END:VEVENT
END:VCALENDAR
