BEGIN:VCALENDAR
VERSION:2.0
PRODID:-//Talks.cam//talks.cam.ac.uk//
X-WR-CALNAME:Talks.cam
BEGIN:VEVENT
SUMMARY:The AOLI project  - Adaptive Optics and Lucky Imaging on the Willi
 am Herschel Telescope - David King (IoA)
DTSTART:20130130T134500Z
DTEND:20130130T141500Z
UID:TALK41600@talks.cam.ac.uk
CONTACT:28811
DESCRIPTION:Abstract not available
LOCATION:Sackler Lecture Theatre\, IoA
END:VEVENT
END:VCALENDAR
