BEGIN:VCALENDAR
VERSION:2.0
PRODID:-//Talks.cam//talks.cam.ac.uk//
X-WR-CALNAME:Talks.cam
BEGIN:VEVENT
SUMMARY:The N158-N159-N160 LMC star forming complex observed with Spitzer\
 , Herschel and LABOCA - Maud Galametz (IoA)
DTSTART:20130123T131500Z
DTEND:20130123T134500Z
UID:TALK41642@talks.cam.ac.uk
CONTACT:29451
DESCRIPTION:Abstract not available
LOCATION:Sackler Lecture Theatre\, IoA
END:VEVENT
END:VCALENDAR
