BEGIN:VCALENDAR
VERSION:2.0
PRODID:-//Talks.cam//talks.cam.ac.uk//
X-WR-CALNAME:Talks.cam
BEGIN:VEVENT
SUMMARY:The motion of spinning test particles - Robert Cole (IoA)
DTSTART:20130213T131500Z
DTEND:20130213T134500Z
UID:TALK41727@talks.cam.ac.uk
CONTACT:29451
DESCRIPTION:Abstract not available
LOCATION:Sackler Lecture Theatre\, IoA
END:VEVENT
END:VCALENDAR
