BEGIN:VCALENDAR
VERSION:2.0
PRODID:-//Talks.cam//talks.cam.ac.uk//
X-WR-CALNAME:Talks.cam
BEGIN:VEVENT
SUMMARY:&quot\;The RNA-binding protein Elavl1/HuR as a determinant of phys
 iologic and pathologic cellular states&quot\;.  - Dimitris Kontoyiannis\, 
 Alexander Fleming\, Biomedical Sciences Research Centre 
DTSTART:20121130T130000Z
DTEND:20121130T140000Z
UID:TALK41741@talks.cam.ac.uk
CONTACT:Carol West
DESCRIPTION:Abstract not available
LOCATION:Sir Brian Heap Room\,  Riverside Meeting Rooms\, The Babraham Ins
 titute
END:VEVENT
END:VCALENDAR
