BEGIN:VCALENDAR
VERSION:2.0
PRODID:-//Talks.cam//talks.cam.ac.uk//
X-WR-CALNAME:Talks.cam
BEGIN:VEVENT
SUMMARY:Skyrmions and Hopfions in exotic superconductors - Babaev\, E (UMa
 ss Amherst and KTH Stockholm)
DTSTART:20121207T120000Z
DTEND:20121207T122000Z
UID:TALK41928@talks.cam.ac.uk
CONTACT:Mustapha Amrani
DESCRIPTION:2012/12/07
LOCATION:Seminar Room 1\, Newton Institute
END:VEVENT
END:VCALENDAR
