BEGIN:VCALENDAR
VERSION:2.0
PRODID:-//Talks.cam//talks.cam.ac.uk//
X-WR-CALNAME:Talks.cam
BEGIN:VEVENT
SUMMARY:Introduction to GungHo Computational Science week:   a discussion 
 session - Pickles\, S (Science and Technology Facilities Council (STFC)\, 
 UK)
DTSTART:20121210T150000Z
DTEND:20121210T160000Z
UID:TALK41948@talks.cam.ac.uk
CONTACT:Mustapha Amrani
DESCRIPTION:What are the plans for the week etc and I think it might be wo
 rth trying to get everyone up to speed on what we mean when we use terms l
 ike infrastructure\, framework\, data model etc.  Do we all mean the same 
 thing by these terms? What impact does any of the options for GungHo curre
 ntly on the table\, have on the framework\, data model etc (a theme that w
 ould run through sessions 1-3)?\n
LOCATION:Seminar Room 2\, Newton Institute Gatehouse
END:VEVENT
END:VCALENDAR
