BEGIN:VCALENDAR
VERSION:2.0
PRODID:-//Talks.cam//talks.cam.ac.uk//
X-WR-CALNAME:Talks.cam
BEGIN:VEVENT
SUMMARY:Data model + interface to kernel + coupling:  a discussion session
  - Ford\, R (Science and Technology Facilities Council (STFC)\, UK)
DTSTART:20121211T140000Z
DTEND:20121211T170000Z
UID:TALK41966@talks.cam.ac.uk
CONTACT:Mustapha Amrani
DESCRIPTION:Coupling to eg the physics\, DA\, other dynamical cores (ie co
 upling to legacy codes that do\nnot use the same data model - do we really
  need to rewrite the physics?). Can we sensibly separate the dynamical cor
 e from the infrastructure by dening a clear interface. Is k innermost a p
 anacea and if not what do we do?\n
LOCATION:Seminar Room 2\, Newton Institute Gatehouse
END:VEVENT
END:VCALENDAR
