BEGIN:VCALENDAR
VERSION:2.0
PRODID:-//Talks.cam//talks.cam.ac.uk//
X-WR-CALNAME:Talks.cam
BEGIN:VEVENT
SUMMARY:Diffusivity of random walk in divergence free random drift field i
 n 2d - Balint Toth  (TU Budapest )
DTSTART:20130122T163000Z
DTEND:20130122T173000Z
UID:TALK42004@talks.cam.ac.uk
CONTACT:12974
DESCRIPTION:Abstract not available
LOCATION:MR12\, CMS\, Wilberforce Road\, Cambridge\, CB3 0WB
END:VEVENT
END:VCALENDAR
