BEGIN:VCALENDAR
VERSION:2.0
PRODID:-//Talks.cam//talks.cam.ac.uk//
X-WR-CALNAME:Talks.cam
BEGIN:VEVENT
SUMMARY:Surfaces and curvature in Euler and Navier-Stokes simulations.  Wh
 ere next? - Kerr\, R (University of Warwick)
DTSTART:20121213T100000Z
DTEND:20121213T110000Z
UID:TALK42127@talks.cam.ac.uk
CONTACT:Mustapha Amrani
DESCRIPTION:This presentation will summarise where the analysis of my late
 st Euler and Navier-Stokes calculations has gone since I arrived with raw 
 data at TODW01: Topological Fluid Dynamics II. This includes stronger evid
 ence for singularities on the edge of the analytic bound\, questions of wh
 y the growth is so constrained\, and what all of this might be telling us 
 about turbulence.\n
LOCATION:Discussion Room\, Newton Institute
END:VEVENT
END:VCALENDAR
