BEGIN:VCALENDAR
VERSION:2.0
PRODID:-//Talks.cam//talks.cam.ac.uk//
X-WR-CALNAME:Talks.cam
BEGIN:VEVENT
SUMMARY:Towards 2020 the genetic influence on obesity and associated disea
 se - Dr Branwen Hennig\, MRC International Nutrition Group at the London S
 chool for Hygiene &amp\; Tropical Medicine\, UK and MRC Keneba\, The Gambi
 a
DTSTART:20130425T080000Z
DTEND:20130425T160000Z
UID:TALK42277@talks.cam.ac.uk
CONTACT:Dr Shara Cohen
DESCRIPTION:Obesity: a multi discplinary approach to the genetic influence
  on this global epidemic. After hearing an  overview of the problem\,  spe
 akers will give evidence  based on the genetics of eating  behaviour\,   i
 ts influence on childhood obesity and treatment \; genome wide association
  studies identifying genes with a role in obesity\, molecular mechanisms u
 nderlying the central control of food intake and body weight\; and an appr
 eciation of genetic factors over the environment  in obesity. Speakers wil
 l also inform us of  diseases associated with obesity.\n\nhttp://www.regon
 line.co.uk/obesity2013
LOCATION:The Royal College of Pathologists\, London\, UK  
END:VEVENT
END:VCALENDAR
