BEGIN:VCALENDAR
VERSION:2.0
PRODID:-//Talks.cam//talks.cam.ac.uk//
X-WR-CALNAME:Talks.cam
BEGIN:VEVENT
SUMMARY:CMS electricity usage: 7627.5 kWh on 06/01/13 - Previous day: 7800
 .0 kWh
DTSTART:20130108T010000Z
DTEND:20130108T020000Z
UID:TALK42444@talks.cam.ac.uk
CONTACT:Dankrad Feist
DESCRIPTION:
LOCATION:Average on Sundays: 7268.7804878 kWh
END:VEVENT
END:VCALENDAR
