BEGIN:VCALENDAR
VERSION:2.0
PRODID:-//Talks.cam//talks.cam.ac.uk//
X-WR-CALNAME:Talks.cam
BEGIN:VEVENT
SUMMARY:Critical Realism and Constructive Critique in Economics: Contrast 
 Explanation and New Economic Thinking - Jamie Morgan (University of Manche
 ster and Helsinki)
DTSTART:20130211T200000Z
DTEND:20130211T220000Z
UID:TALK42875@talks.cam.ac.uk
CONTACT:Cambridge Social Ontology Group
DESCRIPTION:Abstract not available
LOCATION:Clare College\, Trinity Lane Cambridge\, CB2 1TL\, in the Latimer
  Room\, in the Old Court
END:VEVENT
END:VCALENDAR
