BEGIN:VCALENDAR
VERSION:2.0
PRODID:-//Talks.cam//talks.cam.ac.uk//
X-WR-CALNAME:Talks.cam
BEGIN:VEVENT
SUMMARY:Title to be confirmed - Sayantani Neogi
DTSTART:20130304T160000Z
DTEND:20130304T170000Z
UID:TALK43001@talks.cam.ac.uk
CONTACT:Jennifer Bates
DESCRIPTION:Abstract not available
LOCATION:Seminar Room\, McDonald Institute for Archaeology\, Downing Site
END:VEVENT
END:VCALENDAR
