BEGIN:VCALENDAR
VERSION:2.0
PRODID:-//Talks.cam//talks.cam.ac.uk//
X-WR-CALNAME:Talks.cam
BEGIN:VEVENT
SUMMARY:Testing local isotropy with weak lensing - Jean-Philippe Uzan (IAP
  Paris)
DTSTART:20130311T130000Z
DTEND:20130311T140000Z
UID:TALK43012@talks.cam.ac.uk
CONTACT:Camille Bonvin
DESCRIPTION:Spatial local isotropy is one of the properties that underlies
  the Copernican principle which plays a central role in the construction o
 f the standard cosmological model. I will recall the formulation of this p
 rinciple and summarize its implications. I will then describe a test based
  on weak lensing observations\, that I recently proposed in collaboration 
 with Cyril Pitrou and Thiago Pereira and that hopefully can be implemented
  with the Euclid observations.
LOCATION:CMS\, Pav.B\, CTC Common Room (B1.19)
END:VEVENT
END:VCALENDAR
