BEGIN:VCALENDAR
VERSION:2.0
PRODID:-//Talks.cam//talks.cam.ac.uk//
X-WR-CALNAME:Talks.cam
BEGIN:VEVENT
SUMMARY:The Origin of Exozodiacal Dust - Amy Bonsor (IPAG\, Grenoble)
DTSTART:20130410T124500Z
DTEND:20130410T131500Z
UID:TALK43119@talks.cam.ac.uk
CONTACT:29451
DESCRIPTION:Abstract not available
LOCATION:Sackler Lecture Theatre\, IoA
END:VEVENT
END:VCALENDAR
