BEGIN:VCALENDAR
VERSION:2.0
PRODID:-//Talks.cam//talks.cam.ac.uk//
X-WR-CALNAME:Talks.cam
BEGIN:VEVENT
SUMMARY:Molecular control of follicular helper T cell differentiation by R
 oquin family proteins - Prof. Vigo Heissmeyer\,  Institute for Immunology\
 , Ludwig-Maximilians-Universität München
DTSTART:20130426T120000Z
DTEND:20130426T130000Z
UID:TALK43150@talks.cam.ac.uk
CONTACT:Dr Tennie Videler
DESCRIPTION:Abstract not available
LOCATION:Sackler Lecture Theater on level 7 of the CIMR (Cambridge Institu
 te for Medical Research)
END:VEVENT
END:VCALENDAR
