BEGIN:VCALENDAR
VERSION:2.0
PRODID:-//Talks.cam//talks.cam.ac.uk//
X-WR-CALNAME:Talks.cam
BEGIN:VEVENT
SUMMARY:Recent Progress in Matrix Functions - Nick Higham (University of M
 anchester)
DTSTART:20130509T140000Z
DTEND:20130509T150000Z
UID:TALK43345@talks.cam.ac.uk
CONTACT:6743
DESCRIPTION:Functions of matrices are widely used in science\, engineering
  and the\nsocial sciences\, due to the succinct and insightful way they al
 low\nproblems to be formulated and solutions to be expressed. New\napplica
 tions involving matrix functions are regularly being found\,\nranging from
  small but difficult problems in medicine to huge\, sparse\nsystems arisin
 g in the solution of partial differential equations.\nI will outline the u
 nderlying theory\, algorithms and available software\,\nfocusing on recent
  developments and pointing out promising avenues for further research.
LOCATION:MR 14\, CMS
END:VEVENT
END:VCALENDAR
