BEGIN:VCALENDAR
VERSION:2.0
PRODID:-//Talks.cam//talks.cam.ac.uk//
X-WR-CALNAME:Talks.cam
BEGIN:VEVENT
SUMMARY:Informal workshop on groups\, orbits and bifurcation II - Dawes\, 
 J (University of Bath)
DTSTART:20130201T110000Z
DTEND:20130201T120000Z
UID:TALK43361@talks.cam.ac.uk
CONTACT:Mustapha Amrani
DESCRIPTION:2013/02/01
LOCATION:Seminar Room 1\, Newton Institute
END:VEVENT
END:VCALENDAR
