BEGIN:VCALENDAR
VERSION:2.0
PRODID:-//Talks.cam//talks.cam.ac.uk//
X-WR-CALNAME:Talks.cam
BEGIN:VEVENT
SUMMARY:Under the bonnet of the Ferrari of the virus world - Norovirus rep
 lication and immune evasion -  Prof. Ian Goodfellow\, Virology University 
 of Cambridge.
DTSTART:20130607T120000Z
DTEND:20130607T130000Z
UID:TALK43400@talks.cam.ac.uk
CONTACT:Dr Tennie Videler
DESCRIPTION:Abstract not available
LOCATION:Sackler Lecture Theater on level 7 of the CIMR (Cambridge Institu
 te for Medical Research)
END:VEVENT
END:VCALENDAR
