BEGIN:VCALENDAR
VERSION:2.0
PRODID:-//Talks.cam//talks.cam.ac.uk//
X-WR-CALNAME:Talks.cam
BEGIN:VEVENT
SUMMARY:Reproducing Kernel Hilbert Spaces in Non-parametric Statistics - B
 harath Sriperumbudur (University of Cambridge)
DTSTART:20130411T140000Z
DTEND:20130411T153000Z
UID:TALK43636@talks.cam.ac.uk
CONTACT:Colorado Reed
DESCRIPTION:In this talk\, I will introduce the theory of reproducing kern
 el Hilbert spaces and its applications in non-parametric classification\, 
 regression and hypothesis testing.
LOCATION:Engineering Department\, CBL Room 438
END:VEVENT
END:VCALENDAR
