BEGIN:VCALENDAR
VERSION:2.0
PRODID:-//Talks.cam//talks.cam.ac.uk//
X-WR-CALNAME:Talks.cam
BEGIN:VEVENT
SUMMARY:'Role of PML nuclear bodies in genome regulation' - Peter Hemmeric
 h\, Leibniz Institute for Age Research 
DTSTART:20130702T120000Z
DTEND:20130702T130000Z
UID:TALK43652@talks.cam.ac.uk
CONTACT:Carol West
DESCRIPTION:Abstract not available
LOCATION:The Sir Brian Heap Room\, Babraham Institute
END:VEVENT
END:VCALENDAR
