BEGIN:VCALENDAR
VERSION:2.0
PRODID:-//Talks.cam//talks.cam.ac.uk//
X-WR-CALNAME:Talks.cam
BEGIN:VEVENT
SUMMARY:Gods\, Moneylenders and Anthropologists: Three Raj Gond Worlds in 
 the Twentieth Century  - Dr Kriti Kapila (King’s College London) 
DTSTART:20130211T170000Z
DTEND:20130211T190000Z
UID:TALK43724@talks.cam.ac.uk
CONTACT:Dr Annamaria Motrescu-Mayes
DESCRIPTION:Abstract not available
LOCATION:S2 Seminar Room\, Alison Richard Building\, 7 West Road\, Cambrid
 ge\, CB3 9DP
END:VEVENT
END:VCALENDAR
