BEGIN:VCALENDAR
VERSION:2.0
PRODID:-//Talks.cam//talks.cam.ac.uk//
X-WR-CALNAME:Talks.cam
BEGIN:VEVENT
SUMMARY:‘History\, memory and stigma: Filming India's 'criminal'/denotif
 ied tribes in western India’ - Dr William Gould (University of Leeds) an
 d Mr. Dakxinkumar Bajrange
DTSTART:20130305T170000Z
DTEND:20130305T190000Z
UID:TALK43728@talks.cam.ac.uk
CONTACT:Dr Annamaria Motrescu-Mayes
DESCRIPTION:As a preamble to the first international conference on Explori
 ng modern South Asian history with visual research methods\, Cambridge\, U
 K\, 15-16 March 2013 (http://www.crassh.cam.ac.uk/events/2066/)\, the Cent
 re of South Asian Studies is organising a seminar series that will introdu
 ce the theme of the conference. Several historians and anthropologists wil
 l discuss a selection of ethnographic / anthropological films of South Asi
 a in relation to current historiographical methodologies. The series is or
 ganised in collaboration with the Royal Anthropological Institute and CRAS
 SH .
LOCATION:S2 Seminar Room\, Alison Richard Building\, 7 West Road\, Cambrid
 ge\, CB3 9DP
END:VEVENT
END:VCALENDAR
