BEGIN:VCALENDAR
VERSION:2.0
PRODID:-//Talks.cam//talks.cam.ac.uk//
X-WR-CALNAME:Talks.cam
BEGIN:VEVENT
SUMMARY:Iterated integrals and de Rham fundamental group of P^1 minus 3 po
 ints - Brown\, F (Institut de Mathmatiques de Jussieu)
DTSTART:20130306T103000Z
DTEND:20130306T120000Z
UID:TALK43819@talks.cam.ac.uk
CONTACT:Mustapha Amrani
DESCRIPTION:2013/03/06
LOCATION:Seminar Room 1\, Newton Institute
END:VEVENT
END:VCALENDAR
