BEGIN:VCALENDAR
VERSION:2.0
PRODID:-//Talks.cam//talks.cam.ac.uk//
X-WR-CALNAME:Talks.cam
BEGIN:VEVENT
SUMMARY:A Tale of T9 - Cliff Kushler
DTSTART:20050608T153000Z
DTEND:20050608T163000Z
UID:TALK4382@talks.cam.ac.uk
CONTACT:Phil Cowans
DESCRIPTION:I will talk about the history and original impetus  \nfor its 
 development\, why Japanese was so different\, what it took to  \nmake the 
 whole venture a commercial success\, how constraints and  \nrequirements f
 or assistive technology products and mass-market mobile  \nproducts are si
 milar and how they differ\, and anything else that  \nmight be of interest
  should anyone ask.  Please be warned that there  \nwill surely be a certa
 in amount of "hand-waving" involved - it has  \nbeen several years since I
  worked on / managed the Japanese T9  \nproject\, and I had to leave behin
 d most everything related to the  \nproject when I left.
LOCATION:Ryle Seminar Room\, Cavendish Laboratory
END:VEVENT
END:VCALENDAR
