BEGIN:VCALENDAR
VERSION:2.0
PRODID:-//Talks.cam//talks.cam.ac.uk//
X-WR-CALNAME:Talks.cam
BEGIN:VEVENT
SUMMARY:The Everyday Life of the Indian Constitution (1947-1964)  - Rohit 
 De (Centre for History and Economics &amp\; Trinity Hall)
DTSTART:20130314T170000Z
DTEND:20130314T180000Z
UID:TALK43837@talks.cam.ac.uk
CONTACT:Dr AM Price
DESCRIPTION:Abstract not available
LOCATION:Lecture Theatre\, Trinity Hall
END:VEVENT
END:VCALENDAR
