BEGIN:VCALENDAR
VERSION:2.0
PRODID:-//Talks.cam//talks.cam.ac.uk//
X-WR-CALNAME:Talks.cam
BEGIN:VEVENT
SUMMARY:Relativistic dynamics of two particles of opposite mass - Pavel Iv
 anov (Lebedev Physical institute of Russian academy of Sciences)
DTSTART:20130312T130000Z
DTEND:20130312T140000Z
UID:TALK43970@talks.cam.ac.uk
CONTACT:Jérôme Guilet
DESCRIPTION:Abstract not available
LOCATION:MR14\,  Centre for Mathematical Sciences\, Wilberforce Road\, Cam
 bridge
END:VEVENT
END:VCALENDAR
