BEGIN:VCALENDAR
VERSION:2.0
PRODID:-//Talks.cam//talks.cam.ac.uk//
X-WR-CALNAME:Talks.cam
BEGIN:VEVENT
SUMMARY:Postponed till Monday... Regulating T lymphocyte metabolism - Dore
 en Cantrell\, College of Life Sciences\, University of Dundee
DTSTART:20130712T120000Z
DTEND:20130712T130000Z
UID:TALK44050@talks.cam.ac.uk
CONTACT:Dr Tennie Videler
DESCRIPTION:Abstract not available
LOCATION:New LMB Lecture Theatre
END:VEVENT
END:VCALENDAR
