BEGIN:VCALENDAR
VERSION:2.0
PRODID:-//Talks.cam//talks.cam.ac.uk//
X-WR-CALNAME:Talks.cam
BEGIN:VEVENT
SUMMARY:Tangles in Infinity: The Kagome Spin Glass - Andrew Wills\, Univer
 sity College London
DTSTART:20050608T101500Z
DTEND:20050608T111500Z
UID:TALK4414@talks.cam.ac.uk
CONTACT:cb203
DESCRIPTION:Details to be confirmed
LOCATION:Mott Seminar Room\, Cavendish Laboratory\, Department of Physics
END:VEVENT
END:VCALENDAR
