BEGIN:VCALENDAR
VERSION:2.0
PRODID:-//Talks.cam//talks.cam.ac.uk//
X-WR-CALNAME:Talks.cam
BEGIN:VEVENT
SUMMARY:Generation of Plate Tectonics from Grain-Damage and Pinning - Davi
 d Bercovici\, Yale
DTSTART:20130416T153000Z
DTEND:20130416T163000Z
UID:TALK44263@talks.cam.ac.uk
CONTACT:Gareth Roberts
DESCRIPTION:Abstract not available
LOCATION:Marine/Wolfson Building lecture hall
END:VEVENT
END:VCALENDAR
