BEGIN:VCALENDAR
VERSION:2.0
PRODID:-//Talks.cam//talks.cam.ac.uk//
X-WR-CALNAME:Talks.cam
BEGIN:VEVENT
SUMMARY:Highlights of The Third Symposium of Geometry Processing - Richard
  Southern\, Ursula Augsdorfer\, Julian Smith
DTSTART:20050721T131500Z
DTEND:20050721T141500Z
UID:TALK4437@talks.cam.ac.uk
CONTACT:Alan Blackwell
DESCRIPTION:Julian\, Ursula and I will be giving an overview of the most i
 nteresting papers and presentations from the Symposium of Geometry Process
 ing\, held in Vienna two weeks ago. Currently our list contains: \n\nSubdi
 vision Schemes and Attractors <http://www.cs.rice.edu/%7Esschaefe/research
 /> \nScott Schaefer\, David Levin\, Ron Goldman \n\nDiscrete Willmore Flow
  <http://www.math.tu-berlin.de/%7Ebobenko/recentpapers.html> \nAlexander B
 obenko\, Peter Schrder \n\nReconstruction of Solid Models from Oriented Po
 int Sets <http://www.cs.jhu.edu/%7Emisha/> \nMichael Kazhdan \n\nSparse Lo
 w-degree Implicit Surfaces with Applications to High Quality Rendering\, F
 eature Extraction\, and Smoothing <http://www.riken.go.jp/lab-www/V-CAD/VC
 AD-Team/members/ohtake/slim/> \nYutaka Ohtake\, Alexander Belyaev\, Marc A
 lexa \n\nThis is subject to change at absolutely no notice whatsoever! \nA
 lmost all the papers from the conference are available online: \nhttp://my
 web.hinet.net/home7/hks/Papers2005/sgp2005Papers.htm \n\nHopefully a discu
 ssion will follow.
LOCATION:Rainbow Room\, Computer Laboratory
END:VEVENT
END:VCALENDAR
