BEGIN:VCALENDAR
VERSION:2.0
PRODID:-//Talks.cam//talks.cam.ac.uk//
X-WR-CALNAME:Talks.cam
BEGIN:VEVENT
SUMMARY:Why should we study tau in diseases with glial pathology - Maria  
 Grazia Spillantini\, John van Geest Centre for Brain Repair\, University o
 f Cambridge
DTSTART:20130624T160000Z
DTEND:20130624T180000Z
UID:TALK44550@talks.cam.ac.uk
CONTACT:Ragnhildur Karadottir
DESCRIPTION:Abstract not available
LOCATION:Seminar Room at the Herchel Smith Building\, Forvie Site\, Addenb
 rooke's Site\, Cambridge
END:VEVENT
END:VCALENDAR
