BEGIN:VCALENDAR
VERSION:2.0
PRODID:-//Talks.cam//talks.cam.ac.uk//
X-WR-CALNAME:Talks.cam
BEGIN:VEVENT
SUMMARY:Fancy some PIMMS? Or want to stay SLIMM? Memory theories worthy of
  their acronyms? - Rik Henson (MRC Cognition &amp\; Brain Sciences Unit)
DTSTART:20130619T113000Z
DTEND:20130619T123000Z
UID:TALK44664@talks.cam.ac.uk
CONTACT:Mandy Carter
DESCRIPTION:Abstract not available
LOCATION:Lecture Theatre\, MRC Cognition and Brain Sciences Unit\, Chaucer
  Road
END:VEVENT
END:VCALENDAR
