BEGIN:VCALENDAR
VERSION:2.0
PRODID:-//Talks.cam//talks.cam.ac.uk//
X-WR-CALNAME:Talks.cam
BEGIN:VEVENT
SUMMARY:Just print me another computer\, will you? - The world of plastic 
 electronics - Dr Henning Sirringhaus\, Chief Scientist at Plastic Logic\, 
 Cambridge Science Park\, Hitachi Professor of Electron Device Physics at t
 he University of Cambridge
DTSTART:20060207T193000Z
DTEND:20060207T210000Z
UID:TALK4468@talks.cam.ac.uk
CONTACT:Duncan Simpson
DESCRIPTION:Details to be confirmed
LOCATION:Wolfson Lecture Theatre\, Churchill College
END:VEVENT
END:VCALENDAR
