BEGIN:VCALENDAR
VERSION:2.0
PRODID:-//Talks.cam//talks.cam.ac.uk//
X-WR-CALNAME:Talks.cam
BEGIN:VEVENT
SUMMARY:Equivariant normal forms via the Moser trick - Robbins\, J (Univer
 sity of Bristol)
DTSTART:20130425T100000Z
DTEND:20130425T110000Z
UID:TALK44841@talks.cam.ac.uk
CONTACT:Mustapha Amrani
DESCRIPTION:2013/04/25
LOCATION:Seminar Room 2\, Newton Institute Gatehouse
END:VEVENT
END:VCALENDAR
