BEGIN:VCALENDAR
VERSION:2.0
PRODID:-//Talks.cam//talks.cam.ac.uk//
X-WR-CALNAME:Talks.cam
BEGIN:VEVENT
SUMMARY:Nature or Nurture? Does early childhood development predict mental
  illness in adulthood? - Ian Colman
DTSTART:20051025T114500Z
DTEND:20051025T130000Z
UID:TALK4492@talks.cam.ac.uk
CONTACT:Alan Blackwell
DESCRIPTION:Details to be confirmed
LOCATION:Entertaining Room\, Darwin College
END:VEVENT
END:VCALENDAR
