BEGIN:VCALENDAR
VERSION:2.0
PRODID:-//Talks.cam//talks.cam.ac.uk//
X-WR-CALNAME:Talks.cam
BEGIN:VEVENT
SUMMARY:Constructions of Authority in 14th Century Morocco: The Material A
 rgument for Marinid Rule - Amira Bennison (Magdalene College\, Cambridge)
DTSTART:20130606T160000Z
DTEND:20130606T170000Z
UID:TALK44955@talks.cam.ac.uk
CONTACT:Dr AM Price
DESCRIPTION:Abstract not available
LOCATION:Graham Storey Room\, Trinity Hall\, Trinity Lane
END:VEVENT
END:VCALENDAR
