BEGIN:VCALENDAR
VERSION:2.0
PRODID:-//Talks.cam//talks.cam.ac.uk//
X-WR-CALNAME:Talks.cam
BEGIN:VEVENT
SUMMARY:Numerically exact methods for nonequilibrium quantum impurity mode
 ls - Professor Eran Rabani\, University of Tel Aviv
DTSTART:20130508T131500Z
DTEND:20130508T141500Z
UID:TALK45077@talks.cam.ac.uk
CONTACT:Aron Cohen
DESCRIPTION:Abstract not available
LOCATION:Department of Chemistry\, Cambridge\, Pfizer lecture theatre
END:VEVENT
END:VCALENDAR
