BEGIN:VCALENDAR
VERSION:2.0
PRODID:-//Talks.cam//talks.cam.ac.uk//
X-WR-CALNAME:Talks.cam
BEGIN:VEVENT
SUMMARY:SOLAR MAMAS - documentary screening - Documentary screening
DTSTART:20130507T193000Z
DTEND:20130507T210000Z
UID:TALK45101@talks.cam.ac.uk
CONTACT:Olivia Nicoletti
DESCRIPTION:The Cambridge University Energy Network is delighted to invite
  you all to our next documentary screening! \n\nWe will show ‘*Solar Mam
 as*' the 2012 documentary by Jehane Noujaim and Mona Eldaief on the person
 al story of Rafea\, a Bedouin woman who is given the chance to travel to I
 ndia to attend the Barefoot College\, where illiterate grandmothers from a
 round the world are trained to be solar engineers. \n\n’It is beautifull
 y shot\, nicely structured and gently uplifting and while it has a politic
 al message\, it most importantly celebrates the strength of women from aro
 und the world befriending each other.’- ScreenDaily\n\nThe event is FREE
  of charge.
LOCATION:Anthony Low Building (ALB)\, Clare Hall (main site)\, Herschel Ro
 ad\, Cambridge CB3
END:VEVENT
END:VCALENDAR
