BEGIN:VCALENDAR
VERSION:2.0
PRODID:-//Talks.cam//talks.cam.ac.uk//
X-WR-CALNAME:Talks.cam
BEGIN:VEVENT
SUMMARY:Secrets of the Ice: The Glacier Archaeology of Oppland\, Norway - 
 Lars Pilø\, Oppland Fylkeskommune
DTSTART:20130513T121500Z
DTEND:20130513T131500Z
UID:TALK45134@talks.cam.ac.uk
CONTACT:Susanne Hakenbeck
DESCRIPTION:Abstract not available
LOCATION:Seminar Room\, McDonald Institute for Archaeological Research\, D
 owning Site
END:VEVENT
END:VCALENDAR
