BEGIN:VCALENDAR
VERSION:2.0
PRODID:-//Talks.cam//talks.cam.ac.uk//
X-WR-CALNAME:Talks.cam
BEGIN:VEVENT
SUMMARY:Why Can't We Solve the Problem of High Temperature Superconductivi
 ty? - Prof. Mike Norman (joint seminar with Quantum Matter Group)
DTSTART:20051110T141500Z
DTEND:20051110T151500Z
UID:TALK4520@talks.cam.ac.uk
CONTACT:Duncan Simpson
DESCRIPTION:Details to be confirmed
LOCATION:TCM Seminar Room\, Cavendish Laboratory
END:VEVENT
END:VCALENDAR
