BEGIN:VCALENDAR
VERSION:2.0
PRODID:-//Talks.cam//talks.cam.ac.uk//
X-WR-CALNAME:Talks.cam
BEGIN:VEVENT
SUMMARY:Are globular cluster sizes standard rulers? - Poul Alexander (IoA)
DTSTART:20130605T121500Z
DTEND:20130605T124500Z
UID:TALK45425@talks.cam.ac.uk
CONTACT:29451
DESCRIPTION:Abstract not available
LOCATION:Sackler Lecture Theatre\, IoA
END:VEVENT
END:VCALENDAR
