BEGIN:VCALENDAR
VERSION:2.0
PRODID:-//Talks.cam//talks.cam.ac.uk//
X-WR-CALNAME:Talks.cam
BEGIN:VEVENT
SUMMARY:Regulating T lymphocyte metabolism - Doreen Cantrell\, College of 
 Life Sciences\, University of Dundee
DTSTART:20130715T120000Z
DTEND:20130715T130000Z
UID:TALK45459@talks.cam.ac.uk
CONTACT:Dr Tennie Videler
DESCRIPTION:Abstract not available
LOCATION:CIMR (Cambridge Institute for Medical Research)\, Sackler Lecture
  Theater on level 7
END:VEVENT
END:VCALENDAR
