BEGIN:VCALENDAR
VERSION:2.0
PRODID:-//Talks.cam//talks.cam.ac.uk//
X-WR-CALNAME:Talks.cam
BEGIN:VEVENT
SUMMARY:Seminar by the recipients of the Lister Institute Research Prize 2
 012 - Dr David Komander\, MRC Laboratory of Molecular Biology and Dr Akhil
 esh Reddy\, Institute of Metabolic Science\, Addenbrooke’s Treatment Cen
 tre.  
DTSTART:20130607T133000Z
DTEND:20130607T143000Z
UID:TALK45495@talks.cam.ac.uk
CONTACT:Dr Tennie Videler
DESCRIPTION:Abstract not available
LOCATION:MPLT\, MRC-LMB\, Francis Crick Avenue\, Cambridge Biomedical Camp
 us\, CB2 0QH
END:VEVENT
END:VCALENDAR
