BEGIN:VCALENDAR
VERSION:2.0
PRODID:-//Talks.cam//talks.cam.ac.uk//
X-WR-CALNAME:Talks.cam
BEGIN:VEVENT
SUMMARY:Glory Scattering from Small Black Holes - Sam Dolan\, Astrophysics
  Group\, Dept. of Physics
DTSTART:20051026T101500Z
DTEND:20051026T103000Z
UID:TALK4551@talks.cam.ac.uk
CONTACT:John Young
DESCRIPTION:Details to be confirmed
LOCATION:Ryle Seminar Room\, Rutherford Building\, Cavendish Laboratory\, 
 Department of Physics
END:VEVENT
END:VCALENDAR
